BEGIN:VCALENDAR
VERSION:2.0
PRODID:-//ExpressionEngine Easy iCalendar plugin//NONSGML v2.0.1//EN
X-WR-TIMEZONE:America/New_York
X-WR-CALNAME:Upcoming Auctions
BEGIN:VEVENT
UID:124502
DTSTAMP:20240819T080000
DTSTART:20240819T080000
DTEND:20240905T190000
SUMMARY:Store Liquidation! Farm Bureau of Richlands
LOCATION:{location}
DESCRIPTION:Online Only Store Liquidation No Sales Tax!! One Day Liquida
 tion of Farm Bureau 168 Suffolk St.\, Richlands VA
URL:https://www.countsauction.com/auctions/detail/bw124502
SEQUENCE:1
END:VEVENT
END:VCALENDAR