BEGIN:VCALENDAR
VERSION:2.0
PRODID:-//ExpressionEngine Easy iCalendar plugin//NONSGML v2.0.1//EN
X-WR-TIMEZONE:America/New_York
X-WR-CALNAME:Upcoming Auctions
BEGIN:VEVENT
UID:125683
DTSTAMP:20241004T120000
DTSTART:20241004T120000
DTEND:20241004T130000
SUMMARY:ABSOLUTE TRUSTEE AUCTION - 2 TRACTS OF LAND - ALBEMARLE COUN
 TY
LOCATION:3955 Blufton Mill Road\, Free Union\, VA 22940\, US
DESCRIPTION:Absolute Trustee Auction:  Two tracts of land in Albemarle 
 County PREVIEW DATES:  Drive by inspections only - contact 
 the sales managers for more information. SALES MANAGERS:  
  Pete Ramsey - 434-258-6611 - pete@countsauction.com George 
 McDaniel - 434-546-9235 - gmcdaniel@countsauction.com
URL:https://www.countsauction.com/auctions/detail/bw125683
SEQUENCE:1
END:VEVENT
END:VCALENDAR