BEGIN:VCALENDAR
VERSION:2.0
PRODID:-//ExpressionEngine Easy iCalendar plugin//NONSGML v2.0.1//EN
X-WR-TIMEZONE:America/New_York
X-WR-CALNAME:Upcoming Auctions
BEGIN:VEVENT
UID:126568
DTSTAMP:20241019T100000
DTSTART:20241019T100000
DTEND:20241019T110000
SUMMARY:THE ESTATE OF LUCILLE M WOODFORD - REAL ESTATE
LOCATION:2558 Smith Mountain Lake Pkwy\, Huddleston\, VA 24104\, US
DESCRIPTION:***This beautiful brick ranch sits on 2.3 acres in Huddlest
 on*** Preview dates:  Friday September 20th & Saturday Sept
 ember 21st from 10:00 am - 12:00 noon Auction manager:  Ric
 k Manley 540-874-5965 rick@countsauction.com 
URL:https://www.countsauction.com/auctions/detail/bw126568
SEQUENCE:1
END:VEVENT
END:VCALENDAR