BEGIN:VCALENDAR
VERSION:2.0
PRODID:-//ExpressionEngine Easy iCalendar plugin//NONSGML v2.0.1//EN
X-WR-TIMEZONE:America/New_York
X-WR-CALNAME:Upcoming Auctions
BEGIN:VEVENT
UID:128980
DTSTAMP:20241004T214500
DTSTART:20241004T214500
DTEND:20241024T180000
SUMMARY:Online Only Historic Two Story Home & Lot Marion\, VA
LOCATION:217 North Street\, Marion\, VA 24354\, US
DESCRIPTION:PREVIEW DATES: Sunday October 20th\, 2024 from NOON until 2:0
 0PM.  SALES MANAGER: Dwight Counts 276-759-3444.
URL:https://www.countsauction.com/auctions/detail/bw128980
SEQUENCE:1
END:VEVENT
END:VCALENDAR