BEGIN:VCALENDAR
VERSION:2.0
PRODID:-//ExpressionEngine Easy iCalendar plugin//NONSGML v2.0.1//EN
X-WR-TIMEZONE:America/New_York
X-WR-CALNAME:Upcoming Auctions
BEGIN:VEVENT
UID:137853
DTSTAMP:20250328T120000
DTSTART:20250328T120000
DTEND:20250422T180000
SUMMARY:ABSOLUTE AUCTION - SECOND AUCTION - HUNTERS MILL LANE\, EVING
 TON\, VA
LOCATION:21 Hunters Mill Lane\, Evington\, VA 24550\, US
DESCRIPTION:Online Only!  Second Auction! PREVIEW DATE:  Saturday\, Ap
 ril 12th from 11:00 am - 2:00 pm SALES MANAGER:  Danny Cas
 h 561-262-7180 dannycash032@gmail.com 
URL:https://www.countsauction.com/auctions/detail/bw137853
SEQUENCE:1
END:VEVENT
END:VCALENDAR