BEGIN:VCALENDAR
VERSION:2.0
PRODID:-//ExpressionEngine Easy iCalendar plugin//NONSGML v2.0.1//EN
X-WR-TIMEZONE:America/New_York
X-WR-CALNAME:Upcoming Auctions
BEGIN:VEVENT
UID:160966
DTSTAMP:20260422T154500
DTSTART:20260422T154500
DTEND:20260520T120000
SUMMARY:COMMERCIAL CORNER LOT AT THE INTERSECTION OF US 29 N & S COO
 LWELL ROAD
LOCATION:3609 S Amherst Hwy\, Monroe\, VA 24574\, US
DESCRIPTION:Online Only!  Bid from anywhere! +/- 0.60 acre Commercial c
 orner lot at the intersection of US 29 N & S Coolwell Road\, 
 Monroe PREVIEW DATE:  Wednesday May 6th from (12 noon to 1
 :00 pm) SALE MANAGERS: George McDaniel 434-546-9235 / Bill B
 ryant / Chris Gentry
URL:https://www.countsauction.com/auctions/detail/bw160966
SEQUENCE:1
END:VEVENT
END:VCALENDAR