BEGIN:VCALENDAR
VERSION:2.0
PRODID:-//ExpressionEngine Easy iCalendar plugin//NONSGML v2.0.1//EN
X-WR-TIMEZONE:America/New_York
X-WR-CALNAME:Upcoming Auctions
BEGIN:VEVENT
UID:161028
DTSTAMP:20260531T120000
DTSTART:20260531T120000
DTEND:20260531T130000
SUMMARY:UPCOMING SHELTON ESTATE - REAL ESTATE & PERSONAL PROPERTY
LOCATION:19320 Leesville Road\, Lynchburg\, VA 24502\, US
DESCRIPTION:Upcoming Soon! Shelton Estate - Real Estate & Personal Prope
 rty Sales Manager:  George McDaniel 434-546-9235 gmcdaniel@
 countsauction.com 
URL:https://www.countsauction.com/auctions/detail/bw161028
SEQUENCE:1
END:VEVENT
END:VCALENDAR